BEGIN:VCALENDAR
VERSION:2.0
PRODID:Imitheme.com 
BEGIN:VEVENT
UID:20260421T1011011645264
DTSTAMP;TZID=UTC:2026-04-21 10:11:01
DTSTART;TZID=America/Los_Angeles:20230509T000000
DTEND;TZID=America/Los_Angeles:20230509T010000
SUMMARY:Streaming en direct du satsang de Guruji Paramahamsa Prajnanananda depuis Chicago
LOCATION:
DESCRIPTION:Chers amis du Kriya Yoga, Ceci est une annonce que Guruji Paramahamsa Prajnanananda donnera un satsang en direct depuis l\'ashram du Temple de l\'Harmonie à Chicago, Etats-Unis. Chaque jour, du 4 au 7 mai, Guruji partagera un discours avec nous tous. Les enseignements seront diffusés aux heures suivantes : 8, 9 Mai : 00h00 (minuit) Voir sur YouTube Nous espérons que vous pourrez profiter de cette occasion et vous joindre à nous pour ces satsangs. Mais si vous n\'êtes pas en mesure de les regarder en direct, les versions enregistrées des conférences sont toujours disponibles en cliquant sur le lien ci-dessus. au nom du centre de Kriya Vedanta Gurukulam, Chicago
URL:https://institutkriyayoga.fr/evenement/streaming-en-direct-du-satsang-de-guruji-paramahamsa-prajnanananda-depuis-chicago/edate/2023-05-09
END:VEVENT
END:VCALENDAR
