BEGIN:VCALENDAR
VERSION:2.0
PRODID:Imitheme.com 
BEGIN:VEVENT
UID:20260421T095108827133973
DTSTAMP;TZID=UTC:2026-04-21 09:51:08
DTSTART;TZID=America/Los_Angeles:20220902T120000
DTEND;TZID=America/Los_Angeles:20220902T123000
SUMMARY:Séminaire Jour de Fondation a Tattendorf et Darshans avec Guruji
LOCATION:
DESCRIPTION:Chers amis du Kriya Yoga, Nous vous saluons depuis le Centre de Kriya Yoga de Tattendorf. Le mardi 6 septembre marquera le 24e anniversaire du centre de Kriya Yoga à Tattendorf, en Autriche. Pour honorer cet événement, l\'ashram de Tattendorf organisera un séminaire du jour de la fondation qui débutera le vendredi 2 septembre et se terminera le mercredi 7 septembre. Dans le cadre de cet événement, Paramahamsa Prajnanananda nous offrira des darshans quotidiens qui seront disponibles sur Youtube et en ligne via Zoom. 02/09 et 05/09 à 12h00 + 19h30 06/09 à 16h00 Célébration de la Journée de la Fondation du Kriya Yoga Center Vienna 07/09 et 08/09 à 12h00 Youtube et Zoom quotidien du 2. - 7. septembre 2022 Visionner sur YouTube Visionner sur ZOOM Nous espérons que vous pourrez tous vous joindre à nous. Avec nos sincères et humbles salutations, Centre de Kriya Yoga Mère de Miami
URL:https://institutkriyayoga.fr/evenement/darshan-avec-paramahamsa-prajnanananda-2/edate/2022-09-02
END:VEVENT
END:VCALENDAR
