BEGIN:VCALENDAR
VERSION:2.0
PRODID:Imitheme.com 
BEGIN:VEVENT
UID:20260419T2323151734284608
DTSTAMP;TZID=UTC:2026-04-19 23:23:15
DTSTART;TZID=America/Los_Angeles:20261003T083000
DTEND;TZID=America/Los_Angeles:20261003T173000
SUMMARY:Programme Kriya Yoga à Capian (près de Bordeaux) avec Swami Mangalananda Giri
LOCATION:Villamavie\, Monerie\, 33550 Capian
DESCRIPTION:Conférence le vendredi soir - Initiations - Programme & Révisions des techniques de Kriya Yoga Vendredi 2 octobre 2026 au soir (19h30 conférence) - samedi 3 et dimanche 4 octobre 2026 Le programme de Capian aura lieu dans le magnifique site de VILLAMAVIE. L\'institut de Kriya Yoga assure le programme : conférence, initiation, méditation et enseignement. En revanche, pour l\'hébergement, les personnes s\'inscrivent elles-mêmes si elles souhaitent loger sur place. Voir : https://www.villamavie.fr/locations-hebergement-formules Swami Mangalananda Giri Swami Mangalananda Giri a grandi en Allemagne. En 1994, elle rencontra son maître Paramahamsa Hariharananda Giri. Elle l\'a accompagné lors de ses voyages en Europe, a traduit ses conférences et ses séminaires. En parallèle, elle a terminé ses études médicales. Peu de temps après l\'obtention de son doctorat en 2000, elle a été initiée à l\'ordre des Sannyasins (\"renonçants\") par Paramahamsa Hariharananda Giri, qui l\'a autorisée à enseigner le Kriya Yoga. Elle mène des programmes dans toute l’Europe. Swami Mangalananda Giri vit au Centre Européen de Kriya Yoga en Autriche. Modalités d\'inscription : vous pouvez vous inscrire directement auprès d\'Éric (voir le flyer ci-après). CONTACT et inscription : Éric : 06 78 01 24 80 - ericbonnaudeau@gmail.com Secrétariat : Nicole : 02 43 89 44 18 - institkriya@yahoo.fr Informations et horaires à venir.
URL:https://institutkriyayoga.fr/evenement/programme-kriya-yoga-a-capian-pres-de-bordeaux/edate/2026-10-03
END:VEVENT
END:VCALENDAR
