BEGIN:VCALENDAR
VERSION:2.0
PRODID:Imitheme.com 
BEGIN:VEVENT
UID:20260421T084531653643678
DTSTAMP;TZID=UTC:2026-04-21 08:45:31
DTSTART;TZID=America/Los_Angeles:20260605T100000
DTEND;TZID=America/Los_Angeles:20260605T170000
SUMMARY:Retraite Kriya Yoga à Lakeside, Suede avec Paramahamsa Prajnanananda
LOCATION:Gränsjön\, Hyttan 1\, 671 97 Glava\, Sweden
DESCRIPTION:
URL:https://institutkriyayoga.fr/evenement/retraite-kriya-yoga-a-lakeside-suede-avec-paramahamsa-prajnanananda/edate/2026-06-05
END:VEVENT
END:VCALENDAR
