BEGIN:VCALENDAR
VERSION:2.0
PRODID:Imitheme.com 
BEGIN:VEVENT
UID:20260423T1006131701950279
DTSTAMP;TZID=UTC:2026-04-23 10:06:13
DTSTART;TZID=America/Los_Angeles:20260529T100000
DTEND;TZID=America/Los_Angeles:20260529T170000
SUMMARY:Retraite de Kriya Yoga niveau 1 et 2 avec Paramahamsa Prajnanananda à Tattendorf, Autriche
LOCATION:Kriya Yoga Zentrum\, Pottendorfer Str. 69\, 2523 Tattendorf\, Autriche
DESCRIPTION:
URL:https://institutkriyayoga.fr/evenement/retraite-de-kriya-yoga-avec-paramahamsa-prajnanananda-a-tattendorf-autriche/edate/2026-05-29
END:VEVENT
END:VCALENDAR
